BEGIN:VCALENDAR
VERSION:2.0
PRODID:-//Rhythm and Ride - ECPv6.15.20//NONSGML v1.0//EN
CALSCALE:GREGORIAN
METHOD:PUBLISH
X-WR-CALNAME:Rhythm and Ride
X-ORIGINAL-URL:https://rhythmandride.com.au
X-WR-CALDESC:Events for Rhythm and Ride
REFRESH-INTERVAL;VALUE=DURATION:PT1H
X-Robots-Tag:noindex
X-PUBLISHED-TTL:PT1H
BEGIN:VTIMEZONE
TZID:Australia/Perth
BEGIN:STANDARD
TZOFFSETFROM:+0800
TZOFFSETTO:+0800
TZNAME:AWST
DTSTART:20180101T000000
END:STANDARD
END:VTIMEZONE
BEGIN:VEVENT
DTSTART;VALUE=DATE:20190920
DTEND;VALUE=DATE:20190922
DTSTAMP:20260421T190546
CREATED:20190629T064910Z
LAST-MODIFIED:20190713T202924Z
UID:241-1568937600-1569110399@rhythmandride.com.au
SUMMARY:Rhythm & Ride
DESCRIPTION:more
URL:https://rhythmandride.com.au/event/rhythm-ride/
LOCATION:Jack Knox Arena\, Broome Rodeo Ground\, Broome Road\, Broome\, Western Australia\, 6725\, Australia
CATEGORIES:Campdraft,Kids Activities,Music,Rodeo
END:VEVENT
END:VCALENDAR